BEGIN:VCALENDAR
VERSION:2.0
PRODID:-//Premium PT
CALSCALE:GREGORIAN
METHOD:PUBLISH
X-WR-CALNAME:Premium PT
X-ORIGINAL-URL:https://www.premiumpt.com.au/k-event/6-week-challenge/
X-WR-CALDESC:6 Week Challenge
BEGIN:VEVENT
DTSTART:
DTEND:
SUMMARY:6 Week Challenge
DESCRIPTION:
LOCATION:
END:VEVENT
END:VCALENDAR
